BEGIN:VCALENDAR
VERSION:2.0
PRODID:-//Cairo 360 Guide to Cairo, Egypt - ECPv5.5.0.1//NONSGML v1.0//EN
CALSCALE:GREGORIAN
METHOD:PUBLISH
X-WR-CALNAME:Cairo 360 Guide to Cairo, Egypt
X-ORIGINAL-URL:https://assets.cairo360.com
X-WR-CALDESC:Events for Cairo 360 Guide to Cairo, Egypt
BEGIN:VTIMEZONE
TZID:Europe/Helsinki
BEGIN:DAYLIGHT
TZOFFSETFROM:+0200
TZOFFSETTO:+0300
TZNAME:EEST
DTSTART:20260329T010000
END:DAYLIGHT
BEGIN:STANDARD
TZOFFSETFROM:+0300
TZOFFSETTO:+0200
TZNAME:EET
DTSTART:20261025T010000
END:STANDARD
END:VTIMEZONE
BEGIN:VEVENT
DTSTART;TZID=Europe/Helsinki:20260422T200000
DTEND;TZID=Europe/Helsinki:20260422T230000
DTSTAMP:20260425T222217
CREATED:20260419T220611Z
LAST-MODIFIED:20260419T220611Z
UID:1805547-1776888000-1776898800@assets.cairo360.com
SUMMARY:Midan El Qarra ft. Nedz\, Jaadu\, Lydie & Ak at CJC
DESCRIPTION:A night of global beats awaits as Midan El Qarra brings Nedz\, Jaadu\, Lydie the Djette\, and AK the DJ to Cairo Jazz Club on April 22. \nFor more information\, hit this link!
URL:https://assets.cairo360.com/event-new/midan-el-qarra-ft-nedz-jaadu-lydie-ak-at-cjc/
LOCATION:Cairo Jazz Club\, 197 A\, 26th of July St Cairo\, Cairo\, 12654\, Egypt
CATEGORIES:Arts & Culture
ATTACH;FMTTYPE=image/jpeg:https://assets.cairo360.com/app/uploads/2026/04/20/cjc-apr-22.jpg
END:VEVENT
END:VCALENDAR